BEGIN:VCALENDAR
VERSION:2.0
PRODID:-//Humane Society London &amp; Middlesex - ECPv6.15.17.1//NONSGML v1.0//EN
CALSCALE:GREGORIAN
METHOD:PUBLISH
X-WR-CALNAME:Humane Society London &amp; Middlesex
X-ORIGINAL-URL:https://www.hslm.ca
X-WR-CALDESC:Events for Humane Society London &amp; Middlesex
REFRESH-INTERVAL;VALUE=DURATION:PT1H
X-Robots-Tag:noindex
X-PUBLISHED-TTL:PT1H
BEGIN:VTIMEZONE
TZID:UTC
BEGIN:STANDARD
TZOFFSETFROM:+0000
TZOFFSETTO:+0000
TZNAME:UTC
DTSTART:20170101T000000
END:STANDARD
END:VTIMEZONE
BEGIN:VEVENT
DTSTART;TZID=UTC:20190327T080000
DTEND;TZID=UTC:20191115T150000
DTSTAMP:20260424T103427
CREATED:20190327T143242Z
LAST-MODIFIED:20191105T141650Z
UID:10891-1553673600-1573830000@www.hslm.ca
SUMMARY:Show Some Light for Pets
DESCRIPTION:Red Door Candle Studio is making custom candles and selling them at their sales booth at Western Fair Artisan Market (900 King St\, London) Saturdays between 8 am – 3 pm and Sundays between 10 am – 2 pm. \n$2.00 per 16 oz. candle sale will be donated to HSLM.
URL:https://www.hslm.ca/event/show-some-light-for-pets/
LOCATION:Western Fair Artisan Market\, 900 King St\, London\, Ontario\, N5W 2X7\, Canada
ATTACH;FMTTYPE=image/jpeg:https://www.hslm.ca/wp-content/uploads/Red-Door-candle.jpg
END:VEVENT
BEGIN:VEVENT
DTSTART;TZID=UTC:20190324T140000
DTEND;TZID=UTC:20190324T170000
DTSTAMP:20260424T103427
CREATED:20190320T152009Z
LAST-MODIFIED:20190320T152009Z
UID:10860-1553436000-1553446800@www.hslm.ca
SUMMARY:London Knights 50/50 Raffle
DESCRIPTION:The London Knights playoffs round 1 home game vs Windsor will be taking place on Sunday\, March 26 at Budweiser Gardens. \n50/50 raffle proceeds will be donated to Humane Society London & Middlesex. The winner will be drawn at the beginning of the third period.
URL:https://www.hslm.ca/event/london-knights-50-50-raffle/
LOCATION:Budweiser Gardens\, 99 Dundas Street\, London\, Ontario\, N6A 6K1\, Canada
ATTACH;FMTTYPE=image/jpeg:https://www.hslm.ca/wp-content/uploads/london-knights-web-banner.jpg
END:VEVENT
BEGIN:VEVENT
DTSTART;TZID=UTC:20190312T170000
DTEND;TZID=UTC:20190312T210000
DTSTAMP:20260424T103427
CREATED:20181025T023241Z
LAST-MODIFIED:20181123T213950Z
UID:10354-1552410000-1552424400@www.hslm.ca
SUMMARY:Bingo
DESCRIPTION:Humane Society London & Middlesex partners with First Street Charity Bingo Association to host a monthly bingo fundraising event at Lucky Day’s Bingo Hall\, along with approximately 30 other community groups. Our portion of funds raised help to provide medical care and shelter to surrendered\, neglected and mistreats pets in London & Middlesex. \nLucky Day’s Bingo Hall is open 7 days a week and is located at 539 First Street\, London\, ON. Doors open at 5:00 pm\, shutterboard bingo starts at 6:15 pm and the nightly bingo begins at 7:00 pm. \n*Please note that you must be 18+ to participate in or attend these events.
URL:https://www.hslm.ca/event/bingo-mar/
LOCATION:Lucky Day’s Bingo Hall\, 539 First Street\, London\, Ontario\, N5V 1Z5\, Canada
ATTACH;FMTTYPE=image/jpeg:https://www.hslm.ca/wp-content/uploads/bingo-jan.jpeg
END:VEVENT
BEGIN:VEVENT
DTSTART;TZID=UTC:20190225T090000
DTEND;TZID=UTC:20190225T160000
DTSTAMP:20260424T103427
CREATED:20190114T175740Z
LAST-MODIFIED:20190219T211228Z
UID:10689-1551085200-1551110400@www.hslm.ca
SUMMARY:National Cupcake Day
DESCRIPTION:National Cupcake Day\nNational Cupcake Day™ is the most delicious way to show your support for animals in need of your help! \nJoin Humane Society London & Middlesex on February 25th\, 2019 from 9:00 am – 4:00 pm at London City Centre (380 Wellington Street) to purchase delicious cupcakes and pupcakes! \n\n\nYou can also help support this initiative in other ways:\n1. Register and create your own personal fundraising page to collect donations from friends and family members\n2. Donate online to support this fundraising initiative\n3. Host your own Cupcake Day at your business\, school or organization and then donate the funds to HSLM online\, by mail or in person at 624 Clarke Rd. \nCorus Radio will providing live plug-ins at the event throughout the day! \n*Teachers: consider baking cupcakes and treating students for a donation\, or get the students involved in the baking and have them sell cupcakes to other classes.  This is a great (and delicious) way to teach young people about supporting charitable organizations.\n*Businesses: The workplace is the perfect place to throw a National Cupcake Day™Party! Everyone loves a cupcake and this initiative can fit nicely into a morning or afternoon coffee break.
URL:https://www.hslm.ca/event/national-cupcake-day/
LOCATION:London City Centre\, 380 Wellington Street\, London\, Ontario\, N6A 5B5\, Canada
ATTACH;FMTTYPE=image/jpeg:https://www.hslm.ca/wp-content/uploads/Cupcake-Day-Web-Banner.jpg
END:VEVENT
BEGIN:VEVENT
DTSTART;TZID=UTC:20190223T163000
DTEND;TZID=UTC:20190223T233000
DTSTAMP:20260424T103427
CREATED:20190212T174756Z
LAST-MODIFIED:20190212T174756Z
UID:10792-1550939400-1550964600@www.hslm.ca
SUMMARY:6th Annual Rock The House Curling Bonspiel *SOLD OUT*
DESCRIPTION:Everyone is welcome — men\, women\, rookies and veteran curlers.\nTeams can be all-female\, all-male or co-ed.\nRecommended roster size: 4-5 players. \nRocks\, brooms and sliders will be provided. \nDinner is included. Cash bar will be open throughout the bonspiel. \nTrophy and prizes will be awarded to our Curling Champs from our tournament sponsor. \nEvent proceeds will be donated to Humane Society London & Middlesex.
URL:https://www.hslm.ca/event/6th-annual-rock-the-house-curling-bonspiel-sold-out/
LOCATION:London Curling Club\, 377 Lyle St\, London\, Ontario\, N5W 3R5\, Canada
ATTACH;FMTTYPE=image/jpeg:https://www.hslm.ca/wp-content/uploads/Bonspiel-banner.jpg
END:VEVENT
BEGIN:VEVENT
DTSTART;TZID=UTC:20190222T100000
DTEND;TZID=UTC:20190224T210000
DTSTAMP:20260424T103427
CREATED:20190219T184023Z
LAST-MODIFIED:20190220T152448Z
UID:10799-1550829600-1551042000@www.hslm.ca
SUMMARY:PetSmart Charities® National Adoption Weekend
DESCRIPTION:Be prepared for wagging tails\, wet noses and unconditional love when you attend a PetSmart Charities® National Adoption Event taking place February 22nd – 24th\, 2019 at PetSmart Masonville ( 86 Fanshawe Park Rd E\, London.) \nPrecious cats\, kittens and rabbits will be on-site and available for adoption throughout the weekend! \nOn Saturday\, Feb 23rd\, 4-month-old Golden Retriever/Lab mix puppies\, Wyatt and Wrigley\, will be making a special appearance at PetSmart Masonville and will be ready to meet potential adopters between 9:00 am – Noon! Please note although adoption applications will be accepted on this date until 1:00 pm\, the pups have a date to meet Paul Brandt at Budweiser Gardens so will be leaving promptly at noon. Successful adoption applicants will be contacted on Sunday\, Feb 24th. \n \n 
URL:https://www.hslm.ca/event/petsmart-charities-national-adoption-weekend/
LOCATION:PetSmart Masonville\, 86 Fanshawe Park Rd E\,\, London\, Ontario\, N5X 4C5\, Canada
ATTACH;FMTTYPE=image/jpeg:https://www.hslm.ca/wp-content/uploads/Petsmart-web-banner.jpg
END:VEVENT
BEGIN:VEVENT
DTSTART;VALUE=DATE:20190215
DTEND;VALUE=DATE:20190218
DTSTAMP:20260424T103427
CREATED:20190206T161150Z
LAST-MODIFIED:20190206T164114Z
UID:10770-1550188800-1550447999@www.hslm.ca
SUMMARY:Pet Valu-Westwood National Adoption Weekend
DESCRIPTION:Meet and adopt your new feline family member during Pet Valu-Westwood London’s National Adoption Weekend! This adoption event\, in partnership with Humane Society London & Middlesex will be taking place from February 15-17\, 2019.
URL:https://www.hslm.ca/event/pet-valu-westwood-national-adoption-weekend/
LOCATION:Pet Valu Westwood-London\, 425 Southdale Rd W\, London\, Ontario\, N6P 1M7\, Canada
ATTACH;FMTTYPE=image/jpeg:https://www.hslm.ca/wp-content/uploads/pet-valu-2019-feb-adoption-weekend.jpg
END:VEVENT
BEGIN:VEVENT
DTSTART;TZID=UTC:20190214T090000
DTEND;TZID=UTC:20190216T170000
DTSTAMP:20260424T103427
CREATED:20190212T172712Z
LAST-MODIFIED:20190212T172712Z
UID:10786-1550134800-1550336400@www.hslm.ca
SUMMARY:London Honda Valentine's/Family Day Weekend Fundraiser
DESCRIPTION:London Honda is helping to raise funds for HSLM by selling $1 Candy Bars at their dealership from February 14th-16th\, 2019. HSLM Volunteers will be on-site all day on Saturday\, Feb 16th selling branded socks\, shirts and calendars! We look forward to seeing you there.
URL:https://www.hslm.ca/event/london-honda-valentines-family-day-weekend-fundraiser/
LOCATION:London Honda\, 560 Wharncliffe Rd S\,\, London\, Ontario\, N6J 2N4\, Canada
ATTACH;FMTTYPE=image/jpeg:https://www.hslm.ca/wp-content/uploads/London-Honda-event-banner.jpg
END:VEVENT
BEGIN:VEVENT
DTSTART;TZID=UTC:20190212T170000
DTEND;TZID=UTC:20190212T210000
DTSTAMP:20260424T103427
CREATED:20181025T023207Z
LAST-MODIFIED:20181123T213927Z
UID:10353-1549990800-1550005200@www.hslm.ca
SUMMARY:Bingo
DESCRIPTION:Humane Society London & Middlesex partners with First Street Charity Bingo Association to host a monthly bingo fundraising event at Lucky Day’s Bingo Hall\, along with approximately 30 other community groups. Our portion of funds raised help to provide medical care and shelter to surrendered\, neglected and mistreats pets in London & Middlesex. \nLucky Day’s Bingo Hall is open 7 days a week and is located at 539 First Street\, London\, ON. Doors open at 5:00 pm\, shutterboard bingo starts at 6:15 pm and the nightly bingo begins at 7:00 pm. \n*Please note that you must be 18+ to participate in or attend these events.
URL:https://www.hslm.ca/event/bingo-feb/
LOCATION:Lucky Day’s Bingo Hall\, 539 First Street\, London\, Ontario\, N5V 1Z5\, Canada
ATTACH;FMTTYPE=image/jpeg:https://www.hslm.ca/wp-content/uploads/bingo-group.jpeg
END:VEVENT
BEGIN:VEVENT
DTSTART;TZID=UTC:20190125T120000
DTEND;TZID=UTC:20190127T170000
DTSTAMP:20260424T103427
CREATED:20190109T161116Z
LAST-MODIFIED:20190109T161154Z
UID:10667-1548417600-1548608400@www.hslm.ca
SUMMARY:Ren's Pets Depot Adoption Weekend
DESCRIPTION:Ren’s Pets Depot – North London is hosting an adoption weekend from January 25-27\, 2019 in partnership with HSLM. We encourage you to visit their retail location for the chance to meet and adopt a new kitten or cat family member.
URL:https://www.hslm.ca/event/rens-pets-depot-adoption-weekend/
LOCATION:Ren’s Pets Depot\, 1979 Hyde Park Rd\, London\, Ontario\, N6H 0A3\, Canada
ATTACH;FMTTYPE=image/jpeg:https://www.hslm.ca/wp-content/uploads/Rens-Pets-Depot-Rens-Pets-Depot-Adoption-Weekend-Jan-2019-web-banner.jpg
END:VEVENT
BEGIN:VEVENT
DTSTART;TZID=UTC:20190123T080000
DTEND;TZID=UTC:20190123T140000
DTSTAMP:20260424T103427
CREATED:20190122T142905Z
LAST-MODIFIED:20190122T143200Z
UID:10718-1548230400-1548252000@www.hslm.ca
SUMMARY:HSLM Calendar & Sock Sale
DESCRIPTION:HSLM volunteers will be on-site at One London Place on January 23rd from 8:00 am – 2:00 pm to sell 2019 Calendars and premium branded socks. The 2019 calendars showcase some of the wonderful pets who have been adopted from HSLM by their forever families. Calendars and socks both sell for $20 each; proceeds help to provide veterinary care and shelter to the surrendered\, neglected and mistreated pets in London & Middlesex.
URL:https://www.hslm.ca/event/hslm-calendar-sock-sale/
LOCATION:One London Place\, 255 Queens Ave\, London\, Ontario\, N6A 5R8\, Canada
ATTACH;FMTTYPE=image/jpeg:https://www.hslm.ca/wp-content/uploads/One-London-Place_.jpg
END:VEVENT
BEGIN:VEVENT
DTSTART;TZID=UTC:20190112T170000
DTEND;TZID=UTC:20190112T210000
DTSTAMP:20260424T103427
CREATED:20181025T023108Z
LAST-MODIFIED:20181123T213818Z
UID:10352-1547312400-1547326800@www.hslm.ca
SUMMARY:Bingo
DESCRIPTION:Humane Society London & Middlesex partners with First Street Charity Bingo Association to host a monthly bingo fundraising event at Lucky Day’s Bingo Hall\, along with approximately 30 other community groups. Our portion of funds raised help to provide medical care and shelter to surrendered\, neglected and mistreats pets in London & Middlesex. \nLucky Day’s Bingo Hall is open 7 days a week and is located at 539 First Street\, London\, ON. Doors open at 5:00 pm\, shutterboard bingo starts at 6:15 pm and the nightly bingo begins at 7:00 pm. \n*Please note that you must be 18+ to participate in or attend these events.
URL:https://www.hslm.ca/event/bingo-jan/
LOCATION:Lucky Day’s Bingo Hall\, 539 First Street\, London\, Ontario\, N5V 1Z5\, Canada
ATTACH;FMTTYPE=image/jpeg:https://www.hslm.ca/wp-content/uploads/bingo-jan.jpeg
END:VEVENT
BEGIN:VEVENT
DTSTART;TZID=UTC:20181222T100000
DTEND;TZID=UTC:20181222T140000
DTSTAMP:20260424T103427
CREATED:20181211T153744Z
LAST-MODIFIED:20181211T153744Z
UID:10597-1545472800-1545487200@www.hslm.ca
SUMMARY:London Devilettes Fundraiser in support of HSLM
DESCRIPTION:In lieu of a Holiday party\, The London Devilettes have chosen to raise funds for Humane Society London & Middlesex through the sales of calendars and branded socks. Come to Collins Formal Wear on December 22nd between 10 am – 2 pm to support their efforts and pick some some wonderful gifts.
URL:https://www.hslm.ca/event/london-devilettes-fundraiser-in-support-of-hslm/
LOCATION:Collins Formal Wear\, 297 Adelaide St S\, London\, Ontario\, N5Z 3K7\, Canada
ATTACH;FMTTYPE=image/jpeg:https://www.hslm.ca/wp-content/uploads/web-banner-devilettes.jpg
END:VEVENT
BEGIN:VEVENT
DTSTART;TZID=UTC:20181220T170000
DTEND;TZID=UTC:20181220T210000
DTSTAMP:20260424T103427
CREATED:20181025T022500Z
LAST-MODIFIED:20181123T213713Z
UID:10350-1545325200-1545339600@www.hslm.ca
SUMMARY:Bingo
DESCRIPTION:Humane Society London & Middlesex partners with First Street Charity Bingo Association to host a monthly bingo fundraising event at Lucky Day’s Bingo Hall\, along with approximately 30 other community groups. Our portion of funds raised help to provide medical care and shelter to surrendered\, neglected and mistreats pets in London & Middlesex. \nLucky Day’s Bingo Hall is open 7 days a week and is located at 539 First Street\, London\, ON. Doors open at 5:00 pm\, shutterboard bingo starts at 6:15 pm and the nightly bingo begins at 7:00 pm. \n*Please note that you must be 18+ to participate in or attend these events.
URL:https://www.hslm.ca/event/bingo-dec/
LOCATION:Lucky Day’s Bingo Hall\, 539 First Street\, London\, Ontario\, N5V 1Z5\, Canada
ATTACH;FMTTYPE=image/jpeg:https://www.hslm.ca/wp-content/uploads/bingo-christmas.jpeg
END:VEVENT
BEGIN:VEVENT
DTSTART;VALUE=DATE:20181127
DTEND;VALUE=DATE:20181128
DTSTAMP:20260424T103427
CREATED:20181123T215412Z
LAST-MODIFIED:20181123T221534Z
UID:10526-1543276800-1543363199@www.hslm.ca
SUMMARY:Humane Society London & Middlesex x Northern Commerce Launch Party (Invite Only)
DESCRIPTION:Join us in celebrating the charitable partnership of Northern Commerce and London Humane Society at our launch party!
URL:https://www.hslm.ca/event/hslm-x-northern-press-release/
LOCATION:Ontario
ATTACH;FMTTYPE=image/jpeg:https://www.hslm.ca/wp-content/uploads/northern-hslm-launch.jpg
END:VEVENT
BEGIN:VEVENT
DTSTART;TZID=UTC:20181112T170000
DTEND;TZID=UTC:20181112T210000
DTSTAMP:20260424T103427
CREATED:20181025T020746Z
LAST-MODIFIED:20181025T022842Z
UID:10347-1542042000-1542056400@www.hslm.ca
SUMMARY:Bingo
DESCRIPTION:London Humane Society partners with First Street Charity Bingo Association to host a monthly bingo fundraising event at Lucky Day’s Bingo Hall\, along with approximately 30 other community groups. Our portion of funds raised help to provide medical care and shelter to surrendered\, neglected and mistreats pets in London & Middlesex. \nLucky Day’s Bingo Hall is open 7 days a week and is located at 539 First Street\, London\, ON. Doors open at 5:00 pm\, shutterboard bingo starts at 6:15 pm and the nightly bingo begins at 7:00 pm. \n*Please note that you must be 18+ to participate in or attend these events.
URL:https://www.hslm.ca/event/bingo/
LOCATION:Lucky Day’s Bingo Hall\, 539 First Street\, London\, Ontario\, N5V 1Z5\, Canada
ATTACH;FMTTYPE=image/jpeg:https://www.hslm.ca/wp-content/uploads/Bingo-web-banner.jpg
END:VEVENT
BEGIN:VEVENT
DTSTART;VALUE=DATE:20181102
DTEND;VALUE=DATE:20181218
DTSTAMP:20260424T103427
CREATED:20181122T170808Z
LAST-MODIFIED:20181207T150428Z
UID:10424-1541116800-1545091199@www.hslm.ca
SUMMARY:Holiday Pet Gifts
DESCRIPTION:Humane Society London & Middlesex has a variety of wonderful\, affordable holiday pet gifts for sale in-shelter and various locations throughout London & Middlesex. Not only will you make your beloved pet very happy\, but you will also help provide medical care and shelter to the surrendered\, neglected and mistreated pets in our community. \nNovember Dates & Locations\n\nLucan Christmas Craft Show: November 2nd – 4th\, 2018\nChurch of the Ascension Craft Show: November 3rd\, 2018\nLondon City Centre: November 8th – 9th\, 2018\nUniversity Hospital – Cafeteria: November 15th\, 2018\nWestmount Mall: November 16th – 18th\, 2018\nWhite Oaks Mall: November 21st – 25th\, 2018\nReal Canadian Superstore West: November 22nd – 25th\, 2018\nOld World Christmas Market: November 25th\, 2018\nWestern Fair Christmas Craft Festival: November 29th – 30th\, 2018\n\n\nDecember Dates & Locations\n\nWestern Fair Christmas Craft Festival: December 1st – 2nd\, 2018\nWestmount Mall: December 3rd – 9th\, 2018\nMeaningful Market: December 5th\, 2018\nTalbot Place: December 11th – 12th\, 2018\nOne London Place: December 12th – 13th\, 2018\nLondon City Centre: December 13th – 14th\, 2018\nRen’s Pets Depot: December 15th – 16th\, 2018\nCanadian Tire – Dundas Street: December 15th – 16th\, 2018\nCovent Garden Market: December 16th – 17th\, 2018
URL:https://www.hslm.ca/event/holiday-pet-gifts/
LOCATION:Ontario
ATTACH;FMTTYPE=image/jpeg:https://www.hslm.ca/wp-content/uploads/holiday-pet-gifts.jpeg
END:VEVENT
END:VCALENDAR