BEGIN:VCALENDAR
VERSION:2.0
PRODID:-//Humane Society London &amp; Middlesex - ECPv6.15.17.1//NONSGML v1.0//EN
CALSCALE:GREGORIAN
METHOD:PUBLISH
X-WR-CALNAME:Humane Society London &amp; Middlesex
X-ORIGINAL-URL:https://www.hslm.ca
X-WR-CALDESC:Events for Humane Society London &amp; Middlesex
REFRESH-INTERVAL;VALUE=DURATION:PT1H
X-Robots-Tag:noindex
X-PUBLISHED-TTL:PT1H
BEGIN:VTIMEZONE
TZID:UTC
BEGIN:STANDARD
TZOFFSETFROM:+0000
TZOFFSETTO:+0000
TZNAME:UTC
DTSTART:20180101T000000
END:STANDARD
END:VTIMEZONE
BEGIN:VEVENT
DTSTART;TZID=UTC:20191126T190000
DTEND;TZID=UTC:20191126T220000
DTSTAMP:20260422T163624
CREATED:20191106T211348Z
LAST-MODIFIED:20191106T211619Z
UID:11788-1574794800-1574805600@www.hslm.ca
SUMMARY:Bingo
DESCRIPTION:Humane Society London & Middlesex is one of the charities who partner with Forest City Bingo Country to host a monthly bingo event. \nJoin in on the fun on November 26th\, 2019 from 7:00 -10:00 pm for the chance to win money\, while helping to raise much needed funds for the surrendered\, neglected and mistreated animals in our community.
URL:https://www.hslm.ca/event/bingo-3/
LOCATION:Forest City Bingo Country\, 1106 Dearness Dr\, London\, Ontario\, N6E 1N9\, Canada
ATTACH;FMTTYPE=image/jpeg:https://www.hslm.ca/wp-content/uploads/bingo-christmas.jpeg
END:VEVENT
BEGIN:VEVENT
DTSTART;TZID=UTC:20191126T130000
DTEND;TZID=UTC:20191126T200000
DTSTAMP:20260422T163624
CREATED:20191107T142655Z
LAST-MODIFIED:20191118T214148Z
UID:11792-1574773200-1574798400@www.hslm.ca
SUMMARY:Clear the Cages
DESCRIPTION:Humane Society London & Middlesex invites you to visit the shelter on Tuesday\, November 26th for our “Clear the Cages” event. We will be extending our adoption hours for this day to be open from 1-8 pm in the hopes of finding as many forever families for the influx of animals\, mainly cats and kittens\, awaiting adoption! \n\n\n\n\n\n\n\n\n\n\n\n\nClassic Rock 98.1 will be broadcasting live from the shelter in the afternoon! \n\n\n\n\n\n\n\n\n\n\n\n\nIn addition to having the opportunity to meet and adopt a new furry family member\, HSLM will also be handing out free giveaways to all attendees (limit one giveaway bag per family)\, including a Ren’s Pets Depot bag and mystery voucher\, LED dog leash & more! Adopters will all receive this free giveaway bag plus a voucher for a free family dinner for 4 at McDonald’s Restaurant. \nDon’t forget to check out our vast selection of Holiday Pet Gifts and branded merchandise while you’re here.
URL:https://www.hslm.ca/event/clear-the-cages/
LOCATION:Humane Society London & Middlesex\, 1414 Dundas Street\, London\, Ontario\, N5W 3B6\, Canada
ATTACH;FMTTYPE=image/jpeg:https://www.hslm.ca/wp-content/uploads/Clear-The-Cages-web-banner.jpg
END:VEVENT
BEGIN:VEVENT
DTSTART;TZID=UTC:20191124T110000
DTEND;TZID=UTC:20191124T150000
DTSTAMP:20260422T163624
CREATED:20191112T195550Z
LAST-MODIFIED:20191112T195550Z
UID:11803-1574593200-1574607600@www.hslm.ca
SUMMARY:The Grinch Pet Photos - Ren's Pets Depot South
DESCRIPTION:Bring your furry friends for a photo with The Grinch on November 24th\, 2019 from 11 am – 3 pm at Ren’s Pets Depot South (3409 Wonderland Road South\, Unit 10). \nCost is only $15 for a 5 minute photo session with one digital copy. Photo sessions are cash only; no appointments needed. \n50% of event proceeds will be donated to Humane Society London & Middlesex.
URL:https://www.hslm.ca/event/the-grinch-pet-photos-rens-pets-depot-south/
LOCATION:Ren’s Pets Depot South\, 3409 Wonderland Road South Unit 10\, London\, Ontario\, N6L 1A9\, Canada
ATTACH;FMTTYPE=image/jpeg:https://www.hslm.ca/wp-content/uploads/Grinch-Photos-Web-Banner-Rens-South.jpg
END:VEVENT
BEGIN:VEVENT
DTSTART;TZID=UTC:20191123T110000
DTEND;TZID=UTC:20191123T150000
DTSTAMP:20260422T163624
CREATED:20191112T194933Z
LAST-MODIFIED:20191112T194933Z
UID:11801-1574506800-1574521200@www.hslm.ca
SUMMARY:The Grinch Christmas Pet Photos- Ren's Pets Depot North
DESCRIPTION:Bring your furry friends for a photo with The Grinch on November 23rd\, 2019 from 11 am – 3 pm at Ren’s Pets Depot North (1979 Hyde Park Rd\, London). \nCost is only $15 for a 5 minute photo session with one digital copy. Photo sessions are cash only; no appointments needed. \n50% of event proceeds will be donated to Humane Society London & Middlesex.
URL:https://www.hslm.ca/event/the-grinch-christmas-pet-photos-rens-pets-depot-north/
LOCATION:Ren’s Pets Depot North\, 1979 Hyde Park Rd\, London\, Ontario\, N6H 0A3\, Canada
ATTACH;FMTTYPE=image/jpeg:https://www.hslm.ca/wp-content/uploads/Grinch-Photos-Web-Banner-Rens-North.jpg
END:VEVENT
BEGIN:VEVENT
DTSTART;TZID=UTC:20191115T080000
DTEND;TZID=UTC:20191215T170000
DTSTAMP:20260422T163624
CREATED:20191111T210036Z
LAST-MODIFIED:20191111T210036Z
UID:11799-1573804800-1576429200@www.hslm.ca
SUMMARY:Holiday Shelter Drive
DESCRIPTION:London City Centre is collecting donations for Humane Society London & Middlesex from November 15th – December 15th\, 2019 in the lobby of the commercial building (380 Wellington St\, South). \nPlease drop off new\, unused: \n\nMedium/large martingale dog collars\nNon-clumping cat litter\nTowels and small fleece blankets\nCat beds\nPlastic food/water bowls\nPet food in the following brands: Royal Canin\, Hill’s Science Diet & Purina One/Pro Plan\nCleaning supplies
URL:https://www.hslm.ca/event/holiday-shelter-drive/
LOCATION:London City Centre\, 380 Wellington Street\, London\, Ontario\, N6A 5B5\, Canada
ATTACH;FMTTYPE=image/jpeg:https://www.hslm.ca/wp-content/uploads/London-City-Centre-Holiday-Drive-Banner-for-web.jpg
END:VEVENT
BEGIN:VEVENT
DTSTART;TZID=UTC:20191108T100000
DTEND;TZID=UTC:20191110T190000
DTSTAMP:20260422T163624
CREATED:20191003T174518Z
LAST-MODIFIED:20191105T141848Z
UID:11645-1573207200-1573412400@www.hslm.ca
SUMMARY:PetSmart Charities National Adoption Weekend
DESCRIPTION:PetSmart Charities National Adoption Weekend is taking place at PetSmart Masonville (86 Fanshawe Park Rd E\, London) from Friday\, November 8th – Sunday\, November 10th\, 2019. \nOn-site and hoping to meet their forever families will be wonderful cats\, kittens\, guinea pigs & rabbits. \n \n 
URL:https://www.hslm.ca/event/petsmart-charities-national-adoption-weekend-3/
LOCATION:PetSmart Masonville\, 86 Fanshawe Park Rd E\,\, London\, Ontario\, N5X 4C5\, Canada
ATTACH;FMTTYPE=image/png:https://www.hslm.ca/wp-content/uploads/petsmart-banner.png
END:VEVENT
BEGIN:VEVENT
DTSTART;TZID=UTC:20191103T090000
DTEND;TZID=UTC:20191103T110000
DTSTAMP:20260422T163624
CREATED:20191017T161400Z
LAST-MODIFIED:20191021T153929Z
UID:11720-1572771600-1572778800@www.hslm.ca
SUMMARY:Low-Cost Rabies Clinic
DESCRIPTION:Middlesex-London Health Unit is partnering with HSLM and Mt. Brydges Animal Clinic to offer a low-cost rabies clinic on Sunday\, November 3rd from 9:00 am – 11:00 am at Western Fair – East Annex (900 King St). \nThe cost per pet rabies vaccination is $25 (cash only). \nPlease be advised that: \n\nDogs must be leashed and muzzled\nCats must be secured in a carrier\nPets must be over the age of 3 months and healthy\n\nSpots are limited\, so please pre-register online: https://www.eventbrite.ca/e/low-cost-rabies-clinic-pre-registration-tickets-77325896839
URL:https://www.hslm.ca/event/rabiesclinic/
LOCATION:Western Fair – East Annex\, 900 King Street\, London\, Ontario\, N5W 2X7\, Canada
ATTACH;FMTTYPE=image/jpeg:https://www.hslm.ca/wp-content/uploads/2019-Rabies-Banner-for-HSLM-web.jpg
END:VEVENT
BEGIN:VEVENT
DTSTART;TZID=UTC:20191013T103000
DTEND;TZID=UTC:20191013T133000
DTSTAMP:20260422T163624
CREATED:20191003T134450Z
LAST-MODIFIED:20191003T134450Z
UID:11641-1570962600-1570973400@www.hslm.ca
SUMMARY:Fall/Halloween Pet Portraits at Ren’s Pets Depot South
DESCRIPTION:Danielle Mahoney Photography is holding Halloween and Fall-styled pet portraits at Ren’s Pets Depot South (3409 Wonderland Rd\, South) on Sunday\, October 13th from 10:30 am – 1:30 pm. \nCost is: $15 for 5 minute photo session with one digital print & your choice of Halloween or Fall set OR $25 for a 10 minute photo session with one digital print of each Halloween and Fall set. \n$5 from each photo session will be donated directly to Humane Society London & Middlesex.
URL:https://www.hslm.ca/event/fall-halloween-pet-portraits-at-rens-pets-depot-south/
LOCATION:Ren’s Pets Depot South\, 3409 Wonderland Road South Unit 10\, London\, Ontario\, N6L 1A9\, Canada
ATTACH;FMTTYPE=image/jpeg:https://www.hslm.ca/wp-content/uploads/rens-south-.jpg
END:VEVENT
BEGIN:VEVENT
DTSTART;TZID=UTC:20191012T100000
DTEND;TZID=UTC:20191012T130000
DTSTAMP:20260422T163624
CREATED:20191003T133946Z
LAST-MODIFIED:20191003T133946Z
UID:11639-1570874400-1570885200@www.hslm.ca
SUMMARY:Fall/Halloween Pet Portraits at Ren's Pets Depot North
DESCRIPTION:Danielle Mahoney Photography is holding Halloween and Fall-styled pet portraits at Ren’s Pets Depot North (1979 Hyde Park Rd\, London) on Saturday\, October 12th from 10 am – 1 pm. \nCost is: $15 for 5 minute photo session with one digital print & your choice of Halloween or Fall set OR $25 for a 10 minute photo session with one digital print of each Halloween and Fall set. \n$5 from each photo session will be donated directly to Humane Society London & Middlesex.
URL:https://www.hslm.ca/event/fall-halloween-pet-portraits-at-rens-pets-depot-north/
LOCATION:Ren’s Pets Depot North\, 1979 Hyde Park Rd\, London\, Ontario\, N6H 0A3\, Canada
ATTACH;FMTTYPE=image/jpeg:https://www.hslm.ca/wp-content/uploads/rens-hyde-park.jpg
END:VEVENT
BEGIN:VEVENT
DTSTART;TZID=UTC:20191011T100000
DTEND;TZID=UTC:20191013T170000
DTSTAMP:20260422T163624
CREATED:20191003T132710Z
LAST-MODIFIED:20191003T132710Z
UID:11637-1570788000-1570986000@www.hslm.ca
SUMMARY:Pet Valu National Adoption Weekend
DESCRIPTION:National Adoption Weekend is taking place at Pet Valu Westwood (425 Southdale Road West Unit 1\, London\, Ontario N6P 1M7) from Friday\, October 11th – Sunday\, October 13th! \nHSLM adoptable cats and kittens will be on-site\, looking for their forever families. Stop in during this time to meet and even adopt your new feline family member.
URL:https://www.hslm.ca/event/pet-valu-national-adoption-weekend/
LOCATION:Pet Valu Westwood-London\, 425 Southdale Rd W\, London\, Ontario\, N6P 1M7\, Canada
ATTACH;FMTTYPE=image/jpeg:https://www.hslm.ca/wp-content/uploads/Pet-Valu-National-Adoption-Weekend-Banner.jpg
END:VEVENT
BEGIN:VEVENT
DTSTART;TZID=UTC:20191001T100000
DTEND;TZID=UTC:20191031T210000
DTSTAMP:20260422T163624
CREATED:20191003T182045Z
LAST-MODIFIED:20191003T182045Z
UID:11647-1569924000-1572555600@www.hslm.ca
SUMMARY:Thanks for Giving
DESCRIPTION:Pet Valu Westwood-London has graciously once again selected to support HSLM through the Thanks for Giving program. \nAll throughout October\,  Pet Valu Westwood-London will be selling Non-Clumping litter in $1.00 increments. For every $1.00 worth of litter their customers buy to donate to HSLM\, they will match it with another $1.00 worth of litter; to a maximum of $1\,100.
URL:https://www.hslm.ca/event/thanks-for-giving/
LOCATION:Pet Valu Westwood-London\, 425 Southdale Rd W\, London\, Ontario\, N6P 1M7\, Canada
ATTACH;FMTTYPE=image/png:https://www.hslm.ca/wp-content/uploads/thanks4giving.png
END:VEVENT
BEGIN:VEVENT
DTSTART;TZID=UTC:20190922T100000
DTEND;TZID=UTC:20190922T163000
DTSTAMP:20260422T163624
CREATED:20190920T133244Z
LAST-MODIFIED:20190920T133244Z
UID:11537-1569146400-1569169800@www.hslm.ca
SUMMARY:A Day for the Dogs
DESCRIPTION:Humane Society London & Middlesex is thrilled to be participating in the “A Day for the Dogs” event as a vendor at Fanshawe Pioneer Village on Sunday\, September 22nd\, 2019. We will be selling pet treats\, toys\, apparel and beds in order to raise funds for the animals in our care. \n  \nEVENT COST\n$9 for adults- tax included\n$7 for children ages 4-16- tax included\nFree for children ages 3 and under
URL:https://www.hslm.ca/event/a-day-for-the-dogs/
LOCATION:Fanshawe Pioneer Village\, 1424 Clarke Road\,\, London\, Ontario\, N5V 5B9\, Canada
ATTACH;FMTTYPE=image/jpeg:https://www.hslm.ca/wp-content/uploads/Day-for-dogs-web-banner.jpg
END:VEVENT
BEGIN:VEVENT
DTSTART;TZID=UTC:20190921T120000
DTEND;TZID=UTC:20190921T160000
DTSTAMP:20260422T163624
CREATED:20190920T131956Z
LAST-MODIFIED:20190920T131956Z
UID:11534-1569067200-1569081600@www.hslm.ca
SUMMARY:9Round 4 9 Lives
DESCRIPTION:9Round 30 Min Kickboxing Fitness is hosting the “9Round 4 9 Lives” fundraising event on Saturday\, September 21st\, 2019 from noon – 4:00 pm at their location at 1422 Fanshawe Park Rd W\, London. They will be offering free workouts (donations appreciated)\, silent auction and great door prizes. Event proceeds will support Humane Society London & Middlesex.
URL:https://www.hslm.ca/event/9round-4-9-lives/
LOCATION:9Round\, 1422 Fanshawe Park Rd W\, London\, Ontario\, N6G 0A4\, Canada
ATTACH;FMTTYPE=image/jpeg:https://www.hslm.ca/wp-content/uploads/9rounds-banner-for-web.jpg
END:VEVENT
BEGIN:VEVENT
DTSTART;TZID=UTC:20190913T100000
DTEND;TZID=UTC:20190915T180000
DTSTAMP:20260422T163624
CREATED:20190905T145611Z
LAST-MODIFIED:20190905T145611Z
UID:11492-1568368800-1568570400@www.hslm.ca
SUMMARY:PetSmart Charities of Canada National Adoption Weekend
DESCRIPTION:PetSmart Charities of Canada National Adoption Weekend is taking place September 13th – 15th\, 2019. Humane Society London & Middlesex (HSLM) adoptable cats\, kittens\, rabbits and guinea pigs will be on-site at PetSmart Masonville (86 Fanshawe Park Rd E\, London\, ON) all weekend\, hoping to meet their forever families.
URL:https://www.hslm.ca/event/petsmart-charities-of-canada-national-adoption-weekend/
LOCATION:PetSmart Masonville\, 86 Fanshawe Park Rd E\,\, London\, Ontario\, N5X 4C5\, Canada
ATTACH;FMTTYPE=image/jpeg:https://www.hslm.ca/wp-content/uploads/Petsmart-web-banner-sept-2019.jpg
END:VEVENT
BEGIN:VEVENT
DTSTART;TZID=UTC:20190817T090000
DTEND;TZID=UTC:20190818T180000
DTSTAMP:20260422T163624
CREATED:20190814T191834Z
LAST-MODIFIED:20190814T191834Z
UID:11419-1566032400-1566151200@www.hslm.ca
SUMMARY:Adoption Weekend at Ren's Pets Depot South
DESCRIPTION:Ren’s Pets Depot South (3409 Wonderland Rd South) is hosting a small animal adoption weekend in partnership with Humane Society London & Middlesex on Saturday\, August 17th from 9 am – 6 pm and Sunday\, August 18th from Noon – 3 pm. If you have been considering adding a rabbit\, gerbil or guinea pig to your family\, we encourage you to visit the lovely\, adoptable critters during these dates and times.
URL:https://www.hslm.ca/event/adoption-weekend-at-rens-pets-depot-south/
LOCATION:Ren’s Pets Depot South\, 3409 Wonderland Road South Unit 10\, London\, Ontario\, N6L 1A9\, Canada
ATTACH;FMTTYPE=image/jpeg:https://www.hslm.ca/wp-content/uploads/Rens-aug-2019-adoption-weekend-web-banner.jpg
END:VEVENT
BEGIN:VEVENT
DTSTART;TZID=UTC:20190728T123000
DTEND;TZID=UTC:20190728T143000
DTSTAMP:20260422T163624
CREATED:20190710T210658Z
LAST-MODIFIED:20190710T210658Z
UID:11221-1564317000-1564324200@www.hslm.ca
SUMMARY:25th Annual London Pride Parade
DESCRIPTION:Humane Society London & Middlesex (HSLM) is proud to be participating in the 25th Annual London Pride Parade. Join us on Sunday\, July 28th at 12:30 pm to join in on the fun.
URL:https://www.hslm.ca/event/25th-annual-london-pride-parade/
LOCATION:Queens Avenue\, London\, Ontario\, Canada
ATTACH;FMTTYPE=image/jpeg:https://www.hslm.ca/wp-content/uploads/Pride-Parade-web-banner.jpg
END:VEVENT
BEGIN:VEVENT
DTSTART;TZID=UTC:20190713T100000
DTEND;TZID=UTC:20190714T170000
DTSTAMP:20260422T163624
CREATED:20190710T135100Z
LAST-MODIFIED:20190710T175422Z
UID:11218-1563012000-1563123600@www.hslm.ca
SUMMARY:Ren's Pets Depot North Food Drive
DESCRIPTION:Ren’s Pets Depot North (1979 Hyde Park Rd\, London) is hosting a pet food drive in support of HSLM on Saturday\, July 13th and Sunday\, July 14th.\nThey will be accepting donations of unopened bags and cans of dog and cat food in the following brands:\n– Purina Pro Plan/One\n– Royal Canin\n– Hill’s Science Diet
URL:https://www.hslm.ca/event/rens-pets-depot-north-food-drive/
LOCATION:Ren’s Pets Depot North\, 1979 Hyde Park Rd\, London\, Ontario\, N6H 0A3\, Canada
ATTACH;FMTTYPE=image/jpeg:https://www.hslm.ca/wp-content/uploads/Rens-banner-for-web-food-drive.jpg
END:VEVENT
BEGIN:VEVENT
DTSTART;TZID=UTC:20190713T090000
DTEND;TZID=UTC:20190714T170000
DTSTAMP:20260422T163624
CREATED:20190708T140718Z
LAST-MODIFIED:20190708T140718Z
UID:11208-1563008400-1563123600@www.hslm.ca
SUMMARY:Art in the Barn
DESCRIPTION:Humane Society London & Middlesex is excited to be participating in the Art in the Barn event as a vendor. We will be selling fabulous pet treats\, toys\, beds\, apparel and HSLM branded clothing.
URL:https://www.hslm.ca/event/art-in-the-barn/
LOCATION:Dorchester Fairgrounds\, 9439 Hamilton Rd\, Dorchester\, Ontario
ATTACH;FMTTYPE=image/jpeg:https://www.hslm.ca/wp-content/uploads/art-in-the-barn-for-web.jpg
END:VEVENT
BEGIN:VEVENT
DTSTART;TZID=UTC:20190609T100000
DTEND;TZID=UTC:20190609T160000
DTSTAMP:20260422T163624
CREATED:20190423T154802Z
LAST-MODIFIED:20190603T141100Z
UID:11012-1560074400-1560096000@www.hslm.ca
SUMMARY:Bark in the Park Festival Presented by Virtue Realty Inc
DESCRIPTION:The 35th Bark in the Park Festival presented by Virtue Realty Inc.\nThe Bark in the Park Festival presented by Virtue Realty Inc. is back to the Plunkett Estate on Sunday\, June 9th\, 2019! This year marks the 35th celebration of this incredible event\, so you and your dog can expect bigger splashes\, larger smiles and overall the best dog event of the year! Admission is only $20 per vehicle & parking is free! Pre-purchase your bandana at any London Pet Valu location or HSLM.  \nBring your family\, friends and canine companions to join 5\,000 other dog-enthusiasts at The Plunkett Estate (9282 Elviage Drive\, London\, ON) from 10:00 am – 4:00 pm to enjoy fabulous attractions\, including: \n\nWorld Record attempt for the largest gathering of dogs wearing bandanas\nDock diving\nOff-leash dog pond\nUltimutts Stunt Dog Show\nCruisin’ Paws Agility\nDog lure course\nDozens of unique food and product vendors\nSilent auction\nRaffles\nLive demonstrations and informational speakers\nBouncy castles\n\nTo learn more about this incredible event\, click HERE.
URL:https://www.hslm.ca/event/bark-in-the-park-festival-presented-by-virtue-realty-inc/
LOCATION:The Plunkett Estate\, 9282 Elviage Drive\, London\, Ontario\, N6K 4N5\, Canada
ATTACH;FMTTYPE=image/jpeg:https://www.hslm.ca/wp-content/uploads/BIPF-web-icon.jpg
END:VEVENT
BEGIN:VEVENT
DTSTART;TZID=UTC:20190601T070000
DTEND;TZID=UTC:20190602T170000
DTSTAMP:20260422T163624
CREATED:20190529T184736Z
LAST-MODIFIED:20190529T184736Z
UID:11131-1559372400-1559494800@www.hslm.ca
SUMMARY:Fleetwood Country Cruize-In
DESCRIPTION:Humane Society London & Middlesex will be attending the Fleetwood Country Cruize-In as a vendor\, selling branded HSLM apparel\, fabulous pet treats and toys\, and accepting donations to help the animals in our community.
URL:https://www.hslm.ca/event/fleetwood-country-cruize-in/
LOCATION:Ontario
ATTACH;FMTTYPE=image/jpeg:https://www.hslm.ca/wp-content/uploads/Cruizin-in-graphic-for-web.jpg
END:VEVENT
BEGIN:VEVENT
DTSTART;TZID=UTC:20190517T100000
DTEND;TZID=UTC:20190519T180000
DTSTAMP:20260422T163624
CREATED:20190510T135615Z
LAST-MODIFIED:20190510T135615Z
UID:11065-1558087200-1558288800@www.hslm.ca
SUMMARY:PetSmart Charities National Adoption Weekend
DESCRIPTION:PetSmart Charities National Adoption Weekend is taking place from May 17th-19th\, 2019. Visit PetSmart Masonville (86 Fanshawe Park Rd E\, London) to meet and adopt a wonderful HSLM cat\, kitten\, rabbit or guinea pig!
URL:https://www.hslm.ca/event/petsmart-charities-national-adoption-weekend-2/
LOCATION:PetSmart Masonville\, 86 Fanshawe Park Rd E\,\, London\, Ontario\, N5X 4C5\, Canada
ATTACH;FMTTYPE=image/jpeg:https://www.hslm.ca/wp-content/uploads/Petsmart-adoption-graphic-for-web.jpg
END:VEVENT
BEGIN:VEVENT
DTSTART;TZID=UTC:20190429T190000
DTEND;TZID=UTC:20190429T220000
DTSTAMP:20260422T163624
CREATED:20190319T174154Z
LAST-MODIFIED:20190319T174154Z
UID:10852-1556564400-1556575200@www.hslm.ca
SUMMARY:Bingo
DESCRIPTION:Humane Society London & Middlesex partners with First Street Charity Bingo Association to host a monthly bingo fundraising event at Lucky Day’s Bingo Hall\, along with approximately 30 other community groups. Our portion of funds raised help to provide medical care and shelter to surrendered\, neglected and mistreats pets in London & Middlesex. \nLucky Day’s Bingo Hall is open 7 days a week and is located at 539 First Street\, London\, ON. Doors open at 5:00 pm\, shutterboard bingo starts at 6:15 pm and the nightly bingo begins at 7:00 pm. \n*Please note that you must be 18+ to participate in or attend these events.
URL:https://www.hslm.ca/event/bingo-2/
LOCATION:Lucky Day’s Bingo Hall\, 539 First Street\, London\, Ontario\, N5V 1Z5\, Canada
ATTACH;FMTTYPE=image/jpeg:https://www.hslm.ca/wp-content/uploads/bingo-jan.jpeg
END:VEVENT
BEGIN:VEVENT
DTSTART;TZID=UTC:20190426T100000
DTEND;TZID=UTC:20190428T170000
DTSTAMP:20260422T163624
CREATED:20190424T153534Z
LAST-MODIFIED:20190424T153607Z
UID:11020-1556272800-1556470800@www.hslm.ca
SUMMARY:Pet Valu Westwood Adoption Weekend
DESCRIPTION:Pet Valu Westwood-London will be hosting an Adoption Weekend Event from Friday\, April 26th – Sunday\, April 28th at 425 Southdale Road West Unit 1\, London\, ON. On-site will be adorable and adoptable cats and kittens who hope to find their forever families! We encourage you to meet them all weekend long!
URL:https://www.hslm.ca/event/pet-valu-westwood-adoption-weekend/
LOCATION:Pet Valu Westwood-London\, 425 Southdale Rd W\, London\, Ontario\, N6P 1M7\, Canada
ATTACH;FMTTYPE=image/jpeg:https://www.hslm.ca/wp-content/uploads/pet-valu-april-2019-adoption-weekend-graphic.jpg
END:VEVENT
BEGIN:VEVENT
DTSTART;TZID=UTC:20190418T170000
DTEND;TZID=UTC:20190419T170000
DTSTAMP:20260422T163624
CREATED:20190415T194711Z
LAST-MODIFIED:20190415T194711Z
UID:10972-1555606800-1555693200@www.hslm.ca
SUMMARY:38th London Spring Arts & Craft Show
DESCRIPTION:Humane Society London & Middlesex will be attending the 38th London Spring Arts & Craft Show as a vendor\, selling fabulous pet treats\, toys\, apparel\, bedding & more! \nDATES & TIMES\nThursday\, April 18th @ 5PM-9PM\nGood Friday\, April 19th @ 10AM-5PM \nTICKETS (Includes HST)\nAdults: $7.00\nChildren 12 & Under: FREE \nLOCATION\nWestern Fair District Agriplex
URL:https://www.hslm.ca/event/38th-london-spring-arts-craft-show/
LOCATION:Western Fair District Agriplex\, 845 Florence St.\, London\, Ontario\, N5W 6G6\, Canada
ATTACH;FMTTYPE=image/jpeg:https://www.hslm.ca/wp-content/uploads/Spring-Craft-Show.jpg
END:VEVENT
BEGIN:VEVENT
DTSTART;TZID=UTC:20190414T110000
DTEND;TZID=UTC:20190414T133000
DTSTAMP:20260422T163624
CREATED:20190322T153557Z
LAST-MODIFIED:20190322T153557Z
UID:10880-1555239600-1555248600@www.hslm.ca
SUMMARY:Easter Pet Portraits: Ren's Pets Depot South
DESCRIPTION:Danielle Mahoney Photography and Ren’s Pets Depot South are teaming up to host Easter pet portraits in support of Humane Society London & Middlesex. \n$5 from each $15 photo session will be donated to HSLM.
URL:https://www.hslm.ca/event/easter-pet-portraits-rens-pets-depot-south/
LOCATION:Ren’s Pets Depot South\, 3409 Wonderland Road South Unit 10\, London\, Ontario\, N6L 1A9\, Canada
ATTACH;FMTTYPE=image/jpeg:https://www.hslm.ca/wp-content/uploads/Rens-south-easter-2019.jpg
END:VEVENT
BEGIN:VEVENT
DTSTART;TZID=UTC:20190413T100000
DTEND;TZID=UTC:20190414T160000
DTSTAMP:20260422T163624
CREATED:20190408T194627Z
LAST-MODIFIED:20190408T194627Z
UID:10957-1555149600-1555257600@www.hslm.ca
SUMMARY:Ren's Pets Depot North Adoption Weekend
DESCRIPTION:Ren’s Pets Depot North and HSLM are teaming up to host an adoption weekend at 1979 Hyde Park Rd\, London from April 13th-14th\, 2019. Visit this location for the chance to meet and adopt rabbits and guinea pigs.
URL:https://www.hslm.ca/event/rens-pets-depot-north-adoption-weekend/
LOCATION:Ren’s Pets Depot North\, 1979 Hyde Park Rd\, London\, Ontario\, N6H 0A3\, Canada
ATTACH;FMTTYPE=image/jpeg:https://www.hslm.ca/wp-content/uploads/Rens-Pets-Depot-Rens-Pets-Depot-Adoption-Weekend-aPRIL-2019-web-banner.jpg
END:VEVENT
BEGIN:VEVENT
DTSTART;TZID=UTC:20190412T190000
DTEND;TZID=UTC:20190412T220000
DTSTAMP:20260422T163624
CREATED:20190319T174102Z
LAST-MODIFIED:20190319T174102Z
UID:10851-1555095600-1555106400@www.hslm.ca
SUMMARY:Bingo
DESCRIPTION:Humane Society London & Middlesex partners with First Street Charity Bingo Association to host a monthly bingo fundraising event at Lucky Day’s Bingo Hall\, along with approximately 30 other community groups. Our portion of funds raised help to provide medical care and shelter to surrendered\, neglected and mistreats pets in London & Middlesex. \nLucky Day’s Bingo Hall is open 7 days a week and is located at 539 First Street\, London\, ON. Doors open at 5:00 pm\, shutterboard bingo starts at 6:15 pm and the nightly bingo begins at 7:00 pm. \n*Please note that you must be 18+ to participate in or attend these events.
URL:https://www.hslm.ca/event/bingoapril12/
LOCATION:Lucky Day’s Bingo Hall\, 539 First Street\, London\, Ontario\, N5V 1Z5\, Canada
ATTACH;FMTTYPE=image/jpeg:https://www.hslm.ca/wp-content/uploads/bingo-christmas.jpeg
END:VEVENT
BEGIN:VEVENT
DTSTART;TZID=UTC:20190405T100000
DTEND;TZID=UTC:20190405T130000
DTSTAMP:20260422T163624
CREATED:20190319T185339Z
LAST-MODIFIED:20190319T185339Z
UID:10855-1554458400-1554469200@www.hslm.ca
SUMMARY:Compassion for Creatures
DESCRIPTION:Please join the Lambeth Optimist Club for their second annual Compassion for Creatures! This is an event for all ages\, and an opportunity to learn more about your furry\, feathered or scaly friends! This is a fun\, educational day geared for children\, teenagers and adults alike! We will be joined by local shelters and businesses to help promote animal wellness and teach our youth how to interact with all species. \nThis event will take place in the auditorium of the Lambeth United Church. Tickets are only $2 each\, and can be purchased in advance from London Mobile Veterinary Services/Datta Veterinary Hospital\, Greenhills Pharmacy\, or your local Optimist member. Remaining tickets will also be offered at the door. \nRefreshments will be available\, and there will also be prizes to be won.\nHumane Society London & Middlesex will be on-site with animals and accepting donations.
URL:https://www.hslm.ca/event/compassion-for-creatures/
LOCATION:Lambeth United Church\, 4268 Colonel Talbot Road\, London\, Ontario\, N6P 1A2\, Canada
ATTACH;FMTTYPE=image/jpeg:https://www.hslm.ca/wp-content/uploads/Compassion-for-Creatures-web-banner.jpg
END:VEVENT
BEGIN:VEVENT
DTSTART;TZID=UTC:20190331T110000
DTEND;TZID=UTC:20190331T140000
DTSTAMP:20260422T163624
CREATED:20190322T153236Z
LAST-MODIFIED:20190322T153236Z
UID:10876-1554030000-1554040800@www.hslm.ca
SUMMARY:Spring Pet Portraits: Ren's Pets Depot North
DESCRIPTION:Danielle Mahoney Photography and Ren’s Pets Depot North are teaming up to host Spring pet portraits in support of Humane Society London & Middlesex. \n$5 from each $15 photo session will be donated to HSLM.
URL:https://www.hslm.ca/event/spring-pet-portraits-rens-pets-depot-north/
LOCATION:Ren’s Pets Depot North\, 1979 Hyde Park Rd\, London\, Ontario\, N6H 0A3\, Canada
ATTACH;FMTTYPE=image/jpeg:https://www.hslm.ca/wp-content/uploads/Rens-North-Easter-2019-1.jpg
END:VEVENT
BEGIN:VEVENT
DTSTART;TZID=UTC:20190330T103000
DTEND;TZID=UTC:20190330T123000
DTSTAMP:20260422T163624
CREATED:20190322T152844Z
LAST-MODIFIED:20190322T152844Z
UID:10873-1553941800-1553949000@www.hslm.ca
SUMMARY:Spring Pet Portraits: A Village Tail
DESCRIPTION:Danielle Mahoney Photography and A Village Tail are teaming up to host Spring pet portraits in support of Humane Society London & Middlesex. \n$5 from each $15 photo session will be donated to HSLM.
URL:https://www.hslm.ca/event/spring-pet-portraits-a-village-tail/
LOCATION:Dorchester Fairgrounds\, 4939 Hamilton Rd\, Dorchester\, Ontario\, N0L 1G6\, Canada
ATTACH;FMTTYPE=image/jpeg:https://www.hslm.ca/wp-content/uploads/Village-tail-easter-2019.jpg
END:VEVENT
END:VCALENDAR